BEGIN:VCALENDAR
VERSION:2.0
PRODID:-//Sabre//Sabre VObject 4.5.7//EN
CALSCALE:GREGORIAN
BEGIN:VEVENT
UID:sabre-vobject-1a62700d-b3ab-4599-85d9-b8689684bd20
DTSTAMP:20260419T172647Z
SUMMARY:3. Kammerkonzert
DTSTART;TZID=Europe/Berlin:20260509T190000
ORGANIZER;CN=Elbeforum Brunsbüttel:MAILTO:no-reply@dithmarschen.de
LOCATION:Elbeforum Brunsbüttel\, Von-Humboldt-Platz 5\, Brunsbüttel
GEO:53.8980904;9.1228871
DESCRIPTION:Eine Veranstaltung der Reihe Kammerkonzerte - Elbeforum Brunsb
 üttel\n\nKammerkonzerte - Elbeforum Brunsbüttel
BEGIN:VALARM
TRIGGER;VALUE=DURATION:P1D
ACTION:DISPLAY
DESCRIPTION:3. Kammerkonzert
END:VALARM
END:VEVENT
END:VCALENDAR
