BEGIN:VCALENDAR
VERSION:2.0
PRODID:-//Sabre//Sabre VObject 4.5.7//EN
CALSCALE:GREGORIAN
BEGIN:VEVENT
UID:sabre-vobject-252e5890-5ae2-45ed-96c3-d81f5d05a920
DTSTAMP:20260419T133606Z
SUMMARY:After Work im River Loft
DTSTART;TZID=Europe/Berlin:20260430T170000
ORGANIZER;CN=Hotel RIVER LOFT:MAILTO:no-reply@dithmarschen.de
LOCATION:Hotel RIVER LOFT\, Am Freizeitbad 2a\, Brunsbüttel
GEO:53.8989002;9.1318977
DESCRIPTION:\nLife im Loft - Drinks\, Snacks & Beats zum Feierabend.An jede
 m letzten Donnerstag im Monat lädt das River Loft zum geselligen After Wo
 rk.Jeden Monat gibt es dabei ein anderes Motto - von Pommes & Champagner b
 is hin zu verschiedenen Musik-Themen wie zum Beispiel 80er.Zu den passende
 n Beats gibt es leckere Snacks und Getränke. Zusammenkommen\, schnacken\,
  anstoßen und snacken!Der Eintritt ist frei\, die gastronomischen Angebot
 e sind kostenpflichtig.
BEGIN:VALARM
TRIGGER;VALUE=DURATION:P1D
ACTION:DISPLAY
DESCRIPTION:After Work im River Loft
END:VALARM
END:VEVENT
END:VCALENDAR
