BEGIN:VCALENDAR
VERSION:2.0
PRODID:-//Sabre//Sabre VObject 4.5.7//EN
CALSCALE:GREGORIAN
BEGIN:VEVENT
UID:sabre-vobject-92556960-4070-4da9-8713-81fd181610f0
DTSTAMP:20260419T152524Z
SUMMARY:Albersdorfer Wochenmarkt
DTSTART;TZID=Europe/Berlin:20260515T080000
ORGANIZER;CN=Bürgermeister-Golz-Platz Albersdorf:MAILTO:no-reply@dithmarsc
 hen.de
LOCATION:Bürgermeister-Golz-Platz Albersdorf\, Bürgermeister-Golz-Platz \
 , Albersdorf
GEO:54.1452476;9.2833961
DESCRIPTION:Jeden Freitag findet auf dem Bürgermister-Golz-Platz am ZOB ei
 n Wochenmarkt mit regionalen Produkten statt.
BEGIN:VALARM
TRIGGER;VALUE=DURATION:P1D
ACTION:DISPLAY
DESCRIPTION:Albersdorfer Wochenmarkt
END:VALARM
END:VEVENT
END:VCALENDAR
