BEGIN:VCALENDAR
VERSION:2.0
PRODID:-//Sabre//Sabre VObject 4.5.7//EN
CALSCALE:GREGORIAN
BEGIN:VEVENT
UID:sabre-vobject-8f377d84-55ea-4f04-ad0f-1e938fedf3aa
DTSTAMP:20260419T152653Z
SUMMARY:Alexander Maria Wagner - Klavier
DTSTART;TZID=Europe/Berlin:20260502T193000
DTEND;TZID=Europe/Berlin:20260502T173000
ORGANIZER;CN=Kultur- und Bürgerhaus der Stadt Marne:MAILTO:no-reply@dithma
 rschen.de
LOCATION:Kultur- und Bürgerhaus Marne\, Schillerstraße 11\, Marne
GEO:53.9519118;9.0099125
DESCRIPTION:\nAlexander Maria Wagner (*1995) studierte Komposition und Klav
 ier am Mozarteum Salzburg und am Royal College of Music in London.\n\nAlex
 ander Maria Wagner (*1995) studierte Komposition und Klavier am Mozarteum 
 Salzburg und am Royal College of Music in London. Seine Konzerttätigkeit 
 führte ihn durch ganz Europa und in die USA. 2018 erschien seine Einspiel
 ung von Tschaikovskys 1. Klavierkonzert mit dem Radiosinfonieorchester Mos
 kau. - Bereits mit 14 Jahren komponierte er seine Erste Sinfonie Kraftwerk
 \, die vom Sofia Philharmonic Orchestra eingespielt wurde. 2017 spielte da
 s Radiosinfonieorchester Moskau auch seine Zweite Sinfonie ein. Derzeit ar
 beitet er an einem Streichquartett\, dem Stück Octocorallia für Chor und
  japanisches Klangspiel und an einer neuen Oper. Seine Werke werden bei de
 r Universal Edition Wien verlegt. Im September 2024 gastierte er mit Bachs
  Goldberg-Variationen im KBH Marne.\n\nProgramm:\nJohann Sebastian Bach: C
 hromatische Fantasie und Fuge d-Moll\, BWV 903\nRobert Schumann: Thema mit
  Variationen Es-Dur "Geistervariationen"\, WoO 24\nAlexander Maria Wagner:
  Rhapsotüde (2017)\nAlexander Skrjabin: Fantasie h-Moll\, op. 28\nAlexand
 er Skrjabin: Sonate Nr. 9 "Schwarze Messe"\, op. 68\nRobert Schumann: Fant
 asie C-Dur\, op. 17
BEGIN:VALARM
TRIGGER;VALUE=DURATION:P1D
ACTION:DISPLAY
DESCRIPTION:Alexander Maria Wagner - Klavier
END:VALARM
END:VEVENT
END:VCALENDAR
