BEGIN:VCALENDAR
VERSION:2.0
PRODID:-//Sabre//Sabre VObject 4.5.7//EN
CALSCALE:GREGORIAN
BEGIN:VEVENT
UID:sabre-vobject-ecd5b2a1-ba53-4537-9619-9891ab458a2e
DTSTAMP:20260419T115313Z
SUMMARY:Andrey Denisenko Klavier - Mozart & Schubert - ein Dialog
DTSTART;TZID=Europe/Berlin:20260424T193000
DTEND;TZID=Europe/Berlin:20260424T220000
ORGANIZER;CN=Kultur- und Bürgerhaus der Stadt Marne:MAILTO:no-reply@dithma
 rschen.de
LOCATION:Kultur- und Bürgerhaus Marne\, Schillerstraße 11\, Marne
GEO:53.9519118;9.0099125
DESCRIPTION:\nMozart & Schubert - ein DialogAndrey Denisenko\, 1992 in Rost
 ow am Don geboren\, begann sein Studium 2017 an der Hochschule für Musik 
 und Theater Hamburg. 2018 gewann er den dritten Preis beim Europäischen K
 lavierwettbewerb Bremen\, den ersten Preis beim Wettbewerb der Elise-Meyer
 -Stiftung und den Steinway-Förderpreis Klassik. 2019 debütierte er im Gr
 oßen Saal der Laeiszhalle Hamburg und trat seitdem u.a. in der Konzerthal
 le Carl Philipp Emanuel Bach in Frankfurt/Oder\, in der Elbphilharmonie Ha
 mburg und der Philharmonie Berlin auf. Seine Debüt-CD mit Werken von Bach
 \, Brahms und Schumann wurde 2024 bei GENUIN Classics veröffentlicht und 
 von der Fachpresse sehr positiv aufgenommen. 2025 schloss Andrey Denisenko
  sein Konzertexamen mit Auszeichnung ab und spielte im Großen Saal der La
 eiszhalle Hamburg mit den Symphonikern Hamburg.Mozart war für Schubert ei
 ne zentrale Inspirationsquelle - beide verbindet eine außergewöhnliche M
 eisterschaft der melodischen Erfindung und ein besonderes Gespür für den
  Gesang. Während Mozart diese Nähe zur menschlichen Stimme vor allem in 
 seinen Opern entwickelte\, prägte Schubert sie durch seine intensive Besc
 häftigung mit dem Lied. Diese "stimmennahe" Qualität durchzieht auch ihr
 e Klaviermusik. So entsteht ein Programm\, das mit Leichtigkeit und Tiefe\
 , tänzerischer Bewegung und innerer Spannung zwei der größten Melodiker
  der Musikgeschichte in unmittelbare Beziehung setzt.Programm:Wolfgang Ama
 deus Mozart: Fantasie c-Moll KV 475Franz Schubert: Klavierstück Es-Dur D 
 946 Nr. 2Wolfgang Amadeus Mozart: Sonate B-Dur KV 333- Pause -Franz Schube
 rt: 12 Deutsche Ländler D 790Wolfgang Amadeus Mozart: 12 Variationen übe
 r <<Ah\, vous dirai-je\, Maman>> C-Dur KV 265Franz Schubert: Sonate a-Moll
  D 78419:30 Uhr - Eintritt: 25 Euro - Jugendliche: 10 Euro
BEGIN:VALARM
TRIGGER;VALUE=DURATION:P1D
ACTION:DISPLAY
DESCRIPTION:Andrey Denisenko Klavier - Mozart & Schubert - ein Dialog
END:VALARM
END:VEVENT
END:VCALENDAR
