BEGIN:VCALENDAR
VERSION:2.0
PRODID:-//Sabre//Sabre VObject 4.5.7//EN
CALSCALE:GREGORIAN
BEGIN:VEVENT
UID:sabre-vobject-6df06f9c-e2ff-4eb0-a12b-3cd3ed750233
DTSTAMP:20260419T152431Z
SUMMARY:Ballett Pinocchio
DTSTART;TZID=Europe/Berlin:20260503T160000
ORGANIZER;CN=Elbeforum Brunsbüttel:MAILTO:no-reply@dithmarschen.de
LOCATION:Elbeforum Brunsbüttel\, Von-Humboldt-Platz 5\, Brunsbüttel
GEO:53.8981063;9.1229196
DESCRIPTION:Eine Veranstaltung der Reihe Ballett Pinocchio - Elbeforum Brun
 sbüttel\n\nBallett Pinocchio - Elbeforum Brunsbüttel
BEGIN:VALARM
TRIGGER;VALUE=DURATION:P1D
ACTION:DISPLAY
DESCRIPTION:Ballett Pinocchio
END:VALARM
END:VEVENT
END:VCALENDAR
