BEGIN:VCALENDAR
VERSION:2.0
PRODID:-//Sabre//Sabre VObject 4.5.7//EN
CALSCALE:GREGORIAN
BEGIN:VEVENT
UID:sabre-vobject-4fb942a7-949a-46b4-9dec-45e9674f2432
DTSTAMP:20260419T153019Z
SUMMARY:Godewind - Nordisch\, echt\, frisch. "Wind vun achtern"
DTSTART;TZID=Europe/Berlin:20260515T193000
ORGANIZER;CN=Gäste- und Veranstaltungszentrum Büsum:MAILTO:no-reply@dithm
 arschen.de
LOCATION:Watt'n Hus - Freizeit- und Informationszentrum\, Südstrand 11\, B
 üsum
GEO:54.12884;8.85603
DESCRIPTION:\nGodewind im Watt'n Hus in Büsum!Nordisch\, echt\, frisch."Wi
 nd vun achtern" - das neue Album von GodewindGodewind setzt erneut die Seg
 el und startet mit ihrem neuen Album "Wind vun achtern" in einen frischen 
 musikalischen Törn entlang der norddeutschen Küsten. Mit sturmerprobter 
 Crew und viel Herzblut weht ein lebendiger Wind durch ihre Songs - traditi
 onell plattdeutsch\, aber gleichzeitig modern und mitreißend.Das komplett
  plattdeutsche Album eröffnet mit dem poppigen Titelsong\, der bereits in
  vielen Radioprogrammen fester Bestandteil ist. Hier zeigt Godewind eindru
 cksvoll\, wie sich norddeutsche Sprache und moderne Sounds zu einem unverw
 echselbaren musikalischen Erlebnis verbinden lassen.Im Zentrum stehen das 
 norddeutsche Lebensgefühl und die tiefe Liebe zur Waterkant. Mit stimmung
 svollen Songs wie "Mien See"\, einer berührenden Ode ans Meer\, oder "Kü
 stenkinner" fängt die Band die Seele des Nordens ein - ehrlich\, nahbar u
 nd voller Herz.Doch Godewind bleibt auch ihren Wurzeln treu: Drei Klassike
 r wurden neu arrangiert und aufgenommen\, darunter "Achter Dünen un Diek"
 \, das mit seinen Geschichten vom Dorfleben hinterm Deich zum Klönschnack
  mit den Nachbarn einlädt.Musikalisch erweitern Songs wie "Allens op root
 " und "Kummst Du mit mi na Huus" den Horizont\, indem sie Country-Elemente
  mit humorvollen Texten vereinen - so auch bei "13 Decks"\, das von einer 
 unerwarteten Kreuzfahrterfahrung erzählt: Statt einer klassischen Kreuzfa
 hrt wird ein FKK-Dampfer gebucht\, und der Kapitän begrüßt in "Adamskos
 tüm" mit tätowierten Streifen ("Veer Striepen tätoweert").Besonders bew
 egend ist der Song "In dien Welt"\, der sich sensibel mit Demenz und dem U
 mgang damit auseinandersetzt - ein stiller\, persönlicher Moment des Albu
 msTickets ab 33 € an der Theaterkasse oder auf www.buesum.de erhältlich
 .
BEGIN:VALARM
TRIGGER;VALUE=DURATION:P1D
ACTION:DISPLAY
DESCRIPTION:Godewind - Nordisch\, echt\, frisch. "Wind vun achtern"
END:VALARM
END:VEVENT
END:VCALENDAR
