BEGIN:VCALENDAR
VERSION:2.0
PRODID:-//Sabre//Sabre VObject 4.5.7//EN
CALSCALE:GREGORIAN
BEGIN:VEVENT
UID:sabre-vobject-1a2b3e42-16bb-4d09-aaeb-558e39cef6a7
DTSTAMP:20260419T152316Z
SUMMARY:James Farm Fleisch Tasting
DTSTART;TZID=Europe/Berlin:20260514T170000
DTEND;TZID=Europe/Berlin:20260514T183000
ORGANIZER;CN=Lighthouse Hotel & Spa:MAILTO:no-reply@dithmarschen.de
LOCATION:Lighthouse Hotel & Spa\, Am Museumshafen 11\, Büsum
GEO:54.1275607;8.857674
DESCRIPTION:\nJames Farm Fleisch Tasting im Landgang in Büsum\n\nErleben S
 ie einen besonderen Abend im Lighthouse Hotel & Spa und tauchen Sie ein in
  die Welt außergewöhnlicher Fleischqualität.Beim exklusiven Fleisch Tas
 ting der James Farm stehen die Prinzipien "Nose-to-Tail" sowie "Geschmack 
 durch Zeit" im Mittelpunkt - eine bewusste\, nachhaltige und genussvolle A
 rt\, Fleisch neu zu entdecken.Freuen Sie sich auf eine Auswahl fein abgest
 immter Snacks aus unserer Küche\, die Ihnen serviert werden und die Vielf
 alt sowie Tiefe der Produkte perfekt in Szene setzen.Die Veranstaltung fin
 det auf unserer stimmungsvollen Landgang Terrasse an der Feuerstelle statt
  - eine einzigartige Atmosphäre\, die Genuss und Geselligkeit auf besonde
 re Weise verbindet.Im Anschluss an das Tasting haben Sie die Möglichkeit\
 , ausgewählte Produkte bequem und vergünstigt über den James Farm Onlin
 e-Shop zu bestellen.Wir freuen uns auf einen genussvollen Abend mit Ihnen!
BEGIN:VALARM
TRIGGER;VALUE=DURATION:P1D
ACTION:DISPLAY
DESCRIPTION:James Farm Fleisch Tasting
END:VALARM
END:VEVENT
END:VCALENDAR
