BEGIN:VCALENDAR
VERSION:2.0
PRODID:-//Sabre//Sabre VObject 4.5.7//EN
CALSCALE:GREGORIAN
BEGIN:VEVENT
UID:sabre-vobject-ba91d620-0513-49e1-a7ca-f7d7e63636eb
DTSTAMP:20260419T152315Z
SUMMARY:Judas
DTSTART;TZID=Europe/Berlin:20260505T193000
ORGANIZER;CN=Konzert- und Ballhaus Ditmarsia:MAILTO:no-reply@dithmarschen.d
 e
LOCATION:Konzert- und Ballhaus Ditmarsia\, Süderstraße 16\, Meldorf
GEO:54.0885363;9.0709194
DESCRIPTION:Eine Veranstaltung der Reihe Judas - Schleswig-Holsteinisches L
 andestheater und Sinfonieorchester\n\nJudas - Schleswig-Holsteinisches Lan
 destheater und Sinfonieorchester
BEGIN:VALARM
TRIGGER;VALUE=DURATION:P1D
ACTION:DISPLAY
DESCRIPTION:Judas
END:VALARM
END:VEVENT
END:VCALENDAR
