BEGIN:VCALENDAR
VERSION:2.0
PRODID:-//Sabre//Sabre VObject 4.5.7//EN
CALSCALE:GREGORIAN
BEGIN:VEVENT
UID:sabre-vobject-1d801aa9-c536-4cc2-9045-f0658c1be7f2
DTSTAMP:20260421T123433Z
SUMMARY:Kultur.Sommer.Garten. - Georgie Carbutler
DTSTART;TZID=Europe/Berlin:20260521T153000
DTEND;TZID=Europe/Berlin:20260521T170000
ORGANIZER;CN=Kurpark Büsum:MAILTO:no-reply@dithmarschen.de
LOCATION:Kurpark Büsum\, Am Kurpark \, Büsum
GEO:54.1314988;8.8470856
DESCRIPTION:\nKultur. Sommer.Garten. - Georgie Carbutler\n\nGeorgie Carbutl
 er und seine Gitarre...sie haben über viertausend Auftritte hinter sich.O
 b auf Touren mit Harpo\, Middle of the Road\, Chris Andrews oder Ilja Rich
 ter\,in vielen Ländern oder bei Hanna in der Eckkneipe....es geht dem Mus
 iker mit charismatischer Stimme eigentlich immer nur um eines: Songs zu si
 ngen.Diese sind dem Zuschauer alle bekannt\, werden jedoch in eigener Inte
 rpretation gespielt. Mit dieser Passion und mit dem Vermögen das Publikum
  mit seiner lockeren Art mitzuziehen hat er sich in den Jahren einen Namen
  gemacht - dabei sein ist alles
BEGIN:VALARM
TRIGGER;VALUE=DURATION:P1D
ACTION:DISPLAY
DESCRIPTION:Kultur.Sommer.Garten. - Georgie Carbutler
END:VALARM
END:VEVENT
END:VCALENDAR
