BEGIN:VCALENDAR
VERSION:2.0
PRODID:-//Sabre//Sabre VObject 4.5.7//EN
CALSCALE:GREGORIAN
BEGIN:VEVENT
UID:sabre-vobject-7881cb0b-763f-43e4-acc7-99e0d98aad8d
DTSTAMP:20260419T152632Z
SUMMARY:Kultur.Sommer.Garten. - Gerrit Hoss
DTSTART;TZID=Europe/Berlin:20260518T153000
DTEND;TZID=Europe/Berlin:20260518T170000
ORGANIZER;CN=Kurpark Büsum:MAILTO:no-reply@dithmarschen.de
LOCATION:Kurpark Büsum\, Am Kurpark \, Büsum
GEO:54.1314988;8.8470856
DESCRIPTION:\nFest in Norddeutschland verankert - zwischen den Meeren\, Fer
 nweh und immer auf der Suche nach neuen Horizonten. Der Hamburger Musiker\
 , NDR-Moderator und Entertainer hat es geschafft\, sich sowohl mit hochdeu
 tschen als auch mit plattdeutschen Texten einen Namen zu machen und dabei 
 ganz eigene Wege zu gehen. Der Durchbruch gelang ihm mit der neuen Hymne f
 ür die Hansestadt "In Hamburg verliebt"\, die wohl jeder Hamburger mittle
 rweile mitsingen kann. Daraufhin hat Gerrit Hoss sowohl solo als auch mit 
 Band kleine und große Bühnen in ganz Deutschland gespielt. Ohne dabei je
 mals seine Herkunft zu vergessen. "Gerade plattdeutsche Texte sind für mi
 ch eine Herzensangelegenheit."\, so der Hamburger Songwriter über sein zw
 eisprachiges Programm. Es geht ihm nicht nur darum eine Sprachkultur zu er
 halten\, sondern dieser einen modernen Charakter zu verpassen. Mit nordisc
 her Gelassenheit\, Witz und einer frischen Brise Charme macht er die Bühn
 e zu seinem Wohnzimmer und lädt das Publikum ein\, darin Platz zu nehmen 
 und einen Augenblick zu verweilen. Seine Texte sind reflektiert und ergän
 zen sich zu groovigem Pop\, der mit eingängigen Hooks immer wieder neue O
 hrwürmer verspricht. Gerrit Hoss\, der auch Sänger der Band 'Godewind' i
 st\, studierte Musik in Hamburg an der Hochschule für Musik und Theater\,
  woraus sich auch seine Band formierte\, die ausschließlich aus namhaften
  Musikern der Hamburger Szene besteht.
BEGIN:VALARM
TRIGGER;VALUE=DURATION:P1D
ACTION:DISPLAY
DESCRIPTION:Kultur.Sommer.Garten. - Gerrit Hoss
END:VALARM
END:VEVENT
END:VCALENDAR
