BEGIN:VCALENDAR
VERSION:2.0
PRODID:-//Sabre//Sabre VObject 4.5.7//EN
CALSCALE:GREGORIAN
BEGIN:VEVENT
UID:sabre-vobject-182ec836-c62c-499d-83a1-f09ee5c0340d
DTSTAMP:20260419T152652Z
SUMMARY:Kultur.Sommer.Garten. - Jason Foley
DTSTART;TZID=Europe/Berlin:20260514T153000
DTEND;TZID=Europe/Berlin:20260514T170000
ORGANIZER;CN=Kurpark Büsum:MAILTO:no-reply@dithmarschen.de
LOCATION:Kurpark Büsum\, Am Kurpark \, Büsum
GEO:54.1314988;8.8470856
DESCRIPTION:\nKultur.Sommer.Garten. - Jason Foley in Büsum\n\nDer Hamburge
 r Vollblut-Musiker mit englischen Wurzeln zeichnet sich vor allem durch se
 ine Vielfältigkeit und charismatischen Stimme aus: Von alten Klassikern w
 ie etwa The Beatles oder Johnny Cash bis hin zu Oasis\, U2\, und aktuellen
  Hits von George Ezra oder Ed Sheeran taucht Jason Foley in unterschiedlic
 he Genres und Epochen ein\, sodass er Jung und Alt gleichermaßen abholt u
 nd ihnen einen bunten Cocktail an unterschiedlichen Feelings serviert
BEGIN:VALARM
TRIGGER;VALUE=DURATION:P1D
ACTION:DISPLAY
DESCRIPTION:Kultur.Sommer.Garten. - Jason Foley
END:VALARM
END:VEVENT
END:VCALENDAR
