BEGIN:VCALENDAR
VERSION:2.0
PRODID:-//Sabre//Sabre VObject 4.5.7//EN
CALSCALE:GREGORIAN
BEGIN:VEVENT
UID:sabre-vobject-1fb2984b-5bc1-4bbe-8bf7-b807dc7ce59d
DTSTAMP:20260419T152636Z
SUMMARY:Kunsthandwerkermarkt auf dem Ankerplatz
DTSTART;TZID=Europe/Berlin:20260503T100000
DTEND;TZID=Europe/Berlin:20260503T170000
ORGANIZER;CN=Ankerplatz Büsum:MAILTO:no-reply@dithmarschen.de
LOCATION:Ankerplatz Büsum\, Fischerkai 1\, Büsum
GEO:54.12738;8.86009
DESCRIPTION:\nKunsthandwerkermarkt auf dem Ankerplatz in Büsum\n\nAm 03.05
 .2026 steht von 10 bis 17 Uhr das Kunsthandwerk auf dem Ankerplatz im Mitt
 elpunkt. Über 25 verschiedenste Kunsthandwerker bieten ihre Kunst zum Ver
 kauf an.Unter anderem wird angeboten:\n\nMetallkunstMaritime Deko /Tilland
 sienKörnerkissen und mehrHolz-/Keramik-DekoHundebedarfmaschen am MeerSchl
 üsselanhänger aus KunstharzTreibholz-DekoSchneidereiBilderMeerglasminatu
 rGestricktesRecycling-DekoGipsfigurenStrandholzdekoSeide ausgefallene Tedd
 ybärenMalereiKunstharzfigurenGesteckeGrußkartenKeramikBabykleidungNostal
 gie-DekoSchmuck Für das leibliche Wohl sorgt im kleinen Rahmen Martens Ev
 ent und Timm Clausen. Eine gemütliche Sitzecke mit Blick auf den Hafen un
 d den Markt lädt zum Verweilen ein.
BEGIN:VALARM
TRIGGER;VALUE=DURATION:P1D
ACTION:DISPLAY
DESCRIPTION:Kunsthandwerkermarkt auf dem Ankerplatz
END:VALARM
END:VEVENT
END:VCALENDAR
