BEGIN:VCALENDAR
VERSION:2.0
PRODID:-//Sabre//Sabre VObject 4.5.7//EN
CALSCALE:GREGORIAN
BEGIN:VEVENT
UID:sabre-vobject-b5032ab1-3402-4d63-ad86-d31f5402bfaa
DTSTAMP:20260419T132327Z
SUMMARY:Maifeuer in Norddeich
DTSTART;TZID=Europe/Berlin:20260430T180000
ORGANIZER;CN=Sportplatz Norddeich:MAILTO:no-reply@dithmarschen.de
LOCATION:Sportplatz Norddeich\, Zum Sportplatz \, Norddeich
GEO:54.217415;8.89755
DESCRIPTION:Maifeuer auf dem Sportplatz!
BEGIN:VALARM
TRIGGER;VALUE=DURATION:P1D
ACTION:DISPLAY
DESCRIPTION:Maifeuer in Norddeich
END:VALARM
END:VEVENT
END:VCALENDAR
