BEGIN:VCALENDAR
VERSION:2.0
PRODID:-//Sabre//Sabre VObject 4.5.7//EN
CALSCALE:GREGORIAN
BEGIN:VEVENT
UID:sabre-vobject-ed013812-6607-44c7-bdfa-b8eca22db5c1
DTSTAMP:20260421T123607Z
SUMMARY:OPEN STAGE - Liederabend mit Reinhard Wilkens
DTSTART;TZID=Europe/Berlin:20260521T193000
DTEND;TZID=Europe/Berlin:20260521T213000
ORGANIZER;CN=Lighthouse Hotel & Spa (Alter Speicher):MAILTO:no-reply@dithma
 rschen.de
LOCATION:Lighthouse Hotel & Spa (Alter Speicher)\, Am Museumshafen 11\, Bü
 sum
GEO:54.1275607;8.857674
DESCRIPTION:\nOPEN STAGE - mit Reinhard Wilkens im Alten Speicher in Büsum
  \n\nMusik. Poesie. Nordsee. Im Rahmen unserer Open Stage-Reihe im Lightho
 use Hotel präsentieren wir einen besonderen Liederabend: Liedermacher Rei
 nhard Wilkens aus Friedrichstadt bringt eigene Songs\, Gedichte und Geschi
 chten mit - mal auf Hochdeutsch\, mal plattdüütsch - aber immer mit Herz
 \, Humor und Tiefgang.Ob Schmuddelwedder\, Küstenpoesie oder das kleine S
 tück Verrücktsein: Hier wird gesungen\, erzählt und gelacht.Musik & Poe
 sie aus dem NordenWeitere Informationen auf der Website oder bei Eventbrit
 e
BEGIN:VALARM
TRIGGER;VALUE=DURATION:P1D
ACTION:DISPLAY
DESCRIPTION:OPEN STAGE - Liederabend mit Reinhard Wilkens
END:VALARM
END:VEVENT
END:VCALENDAR
