BEGIN:VCALENDAR
VERSION:2.0
PRODID:-//Sabre//Sabre VObject 4.5.7//EN
CALSCALE:GREGORIAN
BEGIN:VEVENT
UID:sabre-vobject-39290ce4-5c56-4cd3-93d7-e988096643ee
DTSTAMP:20260419T153020Z
SUMMARY:Poetry Slam in der Bretterbude
DTSTART;TZID=Europe/Berlin:20260502T200000
DTEND;TZID=Europe/Berlin:20260502T220000
ORGANIZER;CN=Bretterbude Büsum:MAILTO:no-reply@dithmarschen.de
LOCATION:Bretterbude Büsum\, Dithmarscher Straße 29\, Büsum
GEO:54.1357562;8.8457215
DESCRIPTION:\nPoetry Slam in der Bretterbude Büsum\n\nVier renommierte Sla
 mmer:innen treten in der Bretterbude Büsum mit eigenen Texten gegeneinand
 er an. Das Publikum entscheidet\, wer den Poetry-Slam-Abend gewinnt. In de
 n Eventräumen der BretterbudeEinlass: ab 19 UhrAnmeldungen über eventbri
 te.de (siehe Preisinformationen)
BEGIN:VALARM
TRIGGER;VALUE=DURATION:P1D
ACTION:DISPLAY
DESCRIPTION:Poetry Slam in der Bretterbude
END:VALARM
END:VEVENT
END:VCALENDAR
