BEGIN:VCALENDAR
VERSION:2.0
PRODID:-//Sabre//Sabre VObject 4.5.7//EN
CALSCALE:GREGORIAN
BEGIN:VEVENT
UID:sabre-vobject-cd223ab0-fe75-4829-b41a-2190b6dc5e32
DTSTAMP:20260419T135155Z
SUMMARY:Rock The Circus - Musik für die Augen
DTSTART;TZID=Europe/Berlin:20260430T200000
ORGANIZER;CN=Stadttheater Heide GbR:MAILTO:no-reply@dithmarschen.de
LOCATION:Stadttheater Heide\, Rosenstraße 15-19\, Heide
GEO:54.1972581;9.0894639
DESCRIPTION:\nDie pulsierende Energie eines Rockkonzerts vereint mit der Fa
 szination von Weltklasse - Zirkusartistik - Der Überraschungserfolg erneu
 t auf großer Tournee durch DeutschlandHier wächst zusammen\, was zusamme
 ngehört - atemberaubende Artistik und kraftvolle Rockmusik. Kreativität\
 , Risikobereitschaft\, virtuose Fingerfertigkeit und der Mut zur großen E
 motion verbinden die Welt des Rock 'n' Roll seit jeher mit der des Zirkus.
  Zirkus und Rock waren sich selten so nahe wie bei der überraschenden Erf
 olgsshow ROCK THE CIRCUS.Aus einer simplen Idee entstand 2018 eine mitrei
 ßende und überzeugende Mischung\, die beim Publikum voll eingeschlagen i
 st. Die Tournee-Produzenten und -Veranstalter von Reset Production aus Ger
 a lieben Zirkus und live-gespielte Rockmusik. So entstand eine Show mit ei
 ner überzeugenden Live-Band und hervorragenden Akrobaten.Aufgrund der anh
 altend großen Nachfrage seit der Premiere im Jahr 2018 geht diese spektak
 uläre Show zum wiederholten Male erneut auf große Tournee.Die hauseigene
  Rock-The-Circus-Band interpretiert live die größten Hits der Rock-Gesch
 ichte von legendären Bands wie AC/DC\, Bon Jovi\, Guns N' Roses\, Pink Fl
 oyd\, Queen\, den Red Hot Chili Peppers und vielen mehr. Sechs Vollblut-Ro
 ckmusiker sorgen für unvergessliche Gänsehautmomente und das ultimative 
 Live-Konzert-Feeling. Die musikalischen Darbietungen werden durch artistis
 che Höchstleistungen internationaler Akrobaten zu einer neuen Kunstform v
 erschmolzen - rasant\, kraftvoll und wild. Atemberaubende Akrobatik\, magi
 sche Momente und spektakuläre Glanzleistungen treffen auf kraftvolle Rock
 -Hymnen und gefühlvolle Balladen aus 50 Jahren Rockgeschichte. Die Songs 
 sind perfekt auf die jeweiligen Darbietungen abgestimmt\, die Darbietungen
  optimal der Songauswahl angepasst. So wächst zusammen\, was zusammengeh
 ört."Rock The Circus" bietet einen unvergesslichen Abend für Augen und O
 hren\, für das Herz und die Seele\, für Fans harter Rockmusik und Liebha
 ber faszinierender Zirkuskunst.Die mitreißende Inszenierung vermag es\, M
 enschen generationenübergreifend\, von ganz jung bis rüstig reif\, unabh
 ängig von Status\, Herkunft und Geschlecht für einen Abend zu vereinen. 
 Das belegen neben allabendlichen Standing-Ovations auch Zeitungskritiken u
 nd zahlreiche Fan-Reports.
BEGIN:VALARM
TRIGGER;VALUE=DURATION:P1D
ACTION:DISPLAY
DESCRIPTION:Rock The Circus - Musik für die Augen
END:VALARM
END:VEVENT
END:VCALENDAR
