BEGIN:VCALENDAR
VERSION:2.0
PRODID:-//Sabre//Sabre VObject 4.5.7//EN
CALSCALE:GREGORIAN
BEGIN:VEVENT
UID:sabre-vobject-e8a01fc2-e38c-4e44-aa45-d883c888e329
DTSTAMP:20260419T154929Z
SUMMARY:TENÖRE4YOU - Toni Di Napoli & Pietro Pato
DTSTART;TZID=Europe/Berlin:20260517T193000
ORGANIZER;CN=St. Nicolai-Kirche:MAILTO:no-reply@dithmarschen.de
LOCATION:St. Nicolai-Kirche\, Ringstraße \, WÖHRDEN
GEO:54.1650515;8.997713
DESCRIPTION:\nToni Di Napoli & Pietro Pato präsentieren in ihrem Konzert d
 ie perfekte Pop-Klassik Mischung mit grandiosem\, erstklassigem Live-Gesan
 g in italienischem Gesangsstil.Zwei Stimmwunder die Herzen zum Schmelzen b
 ringen.Phantastische Songs und eine elitäre Licht-Show sorgen für stürm
 ische Gefühle \,ein begeistertes\, tobendes Publikum -- das den Konzertab
 end nie vergessen wird.Ein atemberaubendes Erlebnis mit den berühmtesten\
 , legendären Welthits aus Pop\, Klassik\, Musical\, Filmmusik wie: - NESS
 UN DORMA - CARUSO -YOU RAISE ME UP - TITANIC - THE CATS - PHANTOM DER OPER
  - VOLARE - UN AMORE GRANDE - DER PATE - MARINA - MY WAY - BUONASERA SIGNO
 RINA - TIME TO SAY GOODBYE und viele mehr.
BEGIN:VALARM
TRIGGER;VALUE=DURATION:P1D
ACTION:DISPLAY
DESCRIPTION:TENÖRE4YOU - Toni Di Napoli & Pietro Pato
END:VALARM
END:VEVENT
END:VCALENDAR
