BEGIN:VCALENDAR
VERSION:2.0
PRODID:-//Sabre//Sabre VObject 4.5.7//EN
CALSCALE:GREGORIAN
BEGIN:VEVENT
UID:sabre-vobject-8e09e04c-2386-43c5-b6c0-fa13ecc0da51
DTSTAMP:20260421T123551Z
SUMMARY:The Black Rider
DTSTART;TZID=Europe/Berlin:20260521T193000
ORGANIZER;CN=Stadttheater Heide GbR:MAILTO:no-reply@dithmarschen.de
LOCATION:Stadttheater Heide\, Rosenstraße 15-19\, Heide
GEO:54.1972581;9.0894639
DESCRIPTION:\nEine Veranstaltung der Reihe The Black Rider - Schleswig-Hols
 teinisches Landestheater und Sinfonieorchester\n\nTHE CASTING OF THE MAGIC
  BULLETSRegie der Originalproduktion von Robert WilsonMusik von Tom Waits\
 , Liedtexte von Tom Waits und Kathleen BrennanBuch von William S. Burrough
 sOriginal Orchestration von Greg Cohen und Tom WaitsDramaturgie von Wolfga
 ng WiensEs war einmal: Försterstochter Käthchen liebt den Schreiber Wilh
 elm. Doch ein Mann\, der nicht mit der Flinte umgehen kann\, kommt für F
 örster Bertram als Schwiegersohn nicht in Betracht. Für Käthchen hat er
  als Mann einen Jägerburschen von echtem Schrot und Korn als seinen Nachf
 olger auserkoren. Hier kann nur der teuflische Pegleg noch helfen. Mithilf
 e seiner Zauberkugeln wird aus dem linkischen Wilhelm ein treffsicherer Sc
 hütze\, der beste Aussichten hat\, das Probeschießen für sich zu entsch
 eiden. Natürlich hat der Teufelspakt seinen Preis: Das Ziel der letzten F
 reikugel wird von Pegleg selbst bestimmt\, und Wilhelm trifft mit dem Prob
 eschuss - seine Braut. In den Armen des Teufels tanzt Käthchen ihren Tode
 stango und begleicht damit eine alte Schuld ...Die Volkssage vom Schwarzen
  Reiter\, die schon Carl Maria von Weber zu seiner Oper DER FREISCHÜTZ in
 spiriert hat\, bot Regisseur Robert Wilson\, Pop-Idol Tom Waits und dem Di
 chter der Beat-Generation William S. Burroughs die Vorlage für das 1990 e
 rstmals aufgeführte Musical. Das hat mit seiner Anlehnung an urdeutsche W
 ald- und Wiesen-Romantik\, unorthodoxen Texten\, schwärzester Dämonie un
 d gefühlvollen Balladen die deutschen Schauspielhäuser das Rocken gelehr
 t.
BEGIN:VALARM
TRIGGER;VALUE=DURATION:P1D
ACTION:DISPLAY
DESCRIPTION:The Black Rider
END:VALARM
END:VEVENT
END:VCALENDAR
