BEGIN:VCALENDAR
VERSION:2.0
PRODID:-//Sabre//Sabre VObject 4.5.7//EN
CALSCALE:GREGORIAN
BEGIN:VEVENT
UID:sabre-vobject-7f18783d-3d61-4346-bce2-1f4d07ca370f
DTSTAMP:20260419T153150Z
SUMMARY:Waldforscher für Kitas und Schulen
DTSTART;TZID=Europe/Berlin:20260519T090000
DTEND;TZID=Europe/Berlin:20260519T120000
ORGANIZER;CN=Waldmuseum Burg (Dithmarschen):MAILTO:no-reply@dithmarschen.de
LOCATION:Waldmuseum Burg (Dithmarschen)\, Waldstraße 141\, Burg (Dithmarsc
 hen)
GEO:54.0010802;9.2443553
DESCRIPTION:\nDiese Veranstaltung richtet sich ausschließlich an Kitas und
  Schulen !\n\nWaldentdecker: Wandern\, Forschen\, Finden\, Spielen\, Mikor
 oskopieren\, Kunst\, Schnitzen\, Singen\, Naturgeschichten hören und erfi
 nden\, tägliches Picknick (muss selbst mitgebracht werden)Anmeldung erfor
 derlichKleidung: lange Hosen\, feste Schuhe\, ggf. Regenjacke
BEGIN:VALARM
TRIGGER;VALUE=DURATION:P1D
ACTION:DISPLAY
DESCRIPTION:Waldforscher für Kitas und Schulen
END:VALARM
END:VEVENT
END:VCALENDAR
