BEGIN:VCALENDAR
VERSION:2.0
PRODID:-//Sabre//Sabre VObject 4.5.7//EN
CALSCALE:GREGORIAN
BEGIN:VEVENT
UID:sabre-vobject-349a6bcc-7099-41e0-8819-3b4260c85c68
DTSTAMP:20260419T153037Z
SUMMARY:Wattführung "Schlick ist Lebensraum"
DTSTART;TZID=Europe/Berlin:20260517T193000
DTEND;TZID=Europe/Berlin:20260517T213000
ORGANIZER;CN=Strandhaus am Badestrand Friedrichskoog:MAILTO:no-reply@dithma
 rschen.de
LOCATION:Strandhaus\, Badestrand Friedrichskoog\, Strandweg\, 25718 Friedri
 chskoog\, Strandweg \, Friedrichskoog
GEO:54.03891;8.8535776
DESCRIPTION:\nBegegne Muscheln\, Krebsen\, Algen und triff den Wattwurm in 
 seinem natürlichen Zuhause.\n\nDiese Wattführung ist perfekt für alle A
 ltersgruppen geeignet. Erfahren Sie spannende Details über Muscheln\, Kre
 bse\, Wattwürmer und mehr\, während Sie das einzigartige Gefühl erleben
 \, über den freigelegten Meeresboden zu laufen. Ein unvergessliches Natur
 erlebnis!
BEGIN:VALARM
TRIGGER;VALUE=DURATION:P1D
ACTION:DISPLAY
DESCRIPTION:Wattführung "Schlick ist Lebensraum"
END:VALARM
END:VEVENT
END:VCALENDAR
