BEGIN:VCALENDAR
VERSION:2.0
PRODID:-//Sabre//Sabre VObject 4.5.7//EN
CALSCALE:GREGORIAN
BEGIN:VEVENT
UID:sabre-vobject-73809ff9-154c-4f35-8910-259b754e8f4f
DTSTAMP:20260419T152631Z
SUMMARY:Wort und Musik
DTSTART;TZID=Europe/Berlin:20260516T120000
ORGANIZER;CN=Ev.-Luth. Kirchengemeinde Heide:MAILTO:no-reply@dithmarschen.d
 e
LOCATION:St. Jürgen-Kirche Heide\, Markt 27\, Heide
GEO:54.1939695;9.0923613
DESCRIPTION:Kurzandacht zur Marktzeit"Wort und Musik" ist die Kurzandacht z
 ur Marktzeit. Jeden Samstag um 12 Uhr erklingt die Orgel\, dazu gibt es ei
 nen kurzen geistlichen Impuls.
BEGIN:VALARM
TRIGGER;VALUE=DURATION:P1D
ACTION:DISPLAY
DESCRIPTION:Wort und Musik
END:VALARM
END:VEVENT
END:VCALENDAR
